BEGIN:VCALENDAR
VERSION:2.0
PRODID:-//State Theatre of Modesto - ECPv6.15.20//NONSGML v1.0//EN
CALSCALE:GREGORIAN
METHOD:PUBLISH
X-WR-CALNAME:State Theatre of Modesto
X-ORIGINAL-URL:https://thestate.org
X-WR-CALDESC:Events for State Theatre of Modesto
REFRESH-INTERVAL;VALUE=DURATION:PT1H
X-Robots-Tag:noindex
X-PUBLISHED-TTL:PT1H
BEGIN:VTIMEZONE
TZID:America/Los_Angeles
BEGIN:DAYLIGHT
TZOFFSETFROM:-0800
TZOFFSETTO:-0700
TZNAME:PDT
DTSTART:20230312T100000
END:DAYLIGHT
BEGIN:STANDARD
TZOFFSETFROM:-0700
TZOFFSETTO:-0800
TZNAME:PST
DTSTART:20231105T090000
END:STANDARD
BEGIN:DAYLIGHT
TZOFFSETFROM:-0800
TZOFFSETTO:-0700
TZNAME:PDT
DTSTART:20240310T100000
END:DAYLIGHT
BEGIN:STANDARD
TZOFFSETFROM:-0700
TZOFFSETTO:-0800
TZNAME:PST
DTSTART:20241103T090000
END:STANDARD
BEGIN:DAYLIGHT
TZOFFSETFROM:-0800
TZOFFSETTO:-0700
TZNAME:PDT
DTSTART:20250309T100000
END:DAYLIGHT
BEGIN:STANDARD
TZOFFSETFROM:-0700
TZOFFSETTO:-0800
TZNAME:PST
DTSTART:20251102T090000
END:STANDARD
END:VTIMEZONE
BEGIN:VEVENT
DTSTART;TZID=America/Los_Angeles:20240325T140000
DTEND;TZID=America/Los_Angeles:20240325T153000
DTSTAMP:20260425T114409
CREATED:20240202T215255Z
LAST-MODIFIED:20240318T201051Z
UID:5499-1711375200-1711380600@thestate.org
SUMMARY:The Boy and the Heron Anime Class
DESCRIPTION:Join us for anime in Intermission! The talented Patrick Barr from The Dragonfly Art for Life will be here to walk you through your very own drawing inspired by Hayao Miyazaki’s The Boy and the Heron ~ Opening at The State on March 15. \nPatrick comes to us with more than 20 years of experience as a professional artist. With a background that includes The Academy of Art College and Disney Animation Studios. \nTickets: $20\nClass begins at 3:30 p.m. \n 
URL:https://thestate.org/event-intermission/the-boy-and-the-heron-anime-class/
LOCATION:Intermission\, 1301 J Street\, Modesto\, California\, 95354
ATTACH;FMTTYPE=image/jpeg:https://media.thestate.org/wp-content/uploads/2024/02/29120757/Anime-scaled.jpg
END:VEVENT
END:VCALENDAR