BEGIN:VCALENDAR
VERSION:2.0
PRODID:-//State Theatre of Modesto - ECPv6.15.20//NONSGML v1.0//EN
CALSCALE:GREGORIAN
METHOD:PUBLISH
X-ORIGINAL-URL:https://thestate.org
X-WR-CALDESC:Events for State Theatre of Modesto
REFRESH-INTERVAL;VALUE=DURATION:PT1H
X-Robots-Tag:noindex
X-PUBLISHED-TTL:PT1H
BEGIN:VTIMEZONE
TZID:America/Los_Angeles
BEGIN:DAYLIGHT
TZOFFSETFROM:-0800
TZOFFSETTO:-0700
TZNAME:PDT
DTSTART:20250309T100000
END:DAYLIGHT
BEGIN:STANDARD
TZOFFSETFROM:-0700
TZOFFSETTO:-0800
TZNAME:PST
DTSTART:20251102T090000
END:STANDARD
BEGIN:DAYLIGHT
TZOFFSETFROM:-0800
TZOFFSETTO:-0700
TZNAME:PDT
DTSTART:20260308T100000
END:DAYLIGHT
BEGIN:STANDARD
TZOFFSETFROM:-0700
TZOFFSETTO:-0800
TZNAME:PST
DTSTART:20261101T090000
END:STANDARD
BEGIN:DAYLIGHT
TZOFFSETFROM:-0800
TZOFFSETTO:-0700
TZNAME:PDT
DTSTART:20270314T100000
END:DAYLIGHT
BEGIN:STANDARD
TZOFFSETFROM:-0700
TZOFFSETTO:-0800
TZNAME:PST
DTSTART:20271107T090000
END:STANDARD
END:VTIMEZONE
BEGIN:VEVENT
DTSTART;TZID=America/Los_Angeles:20260226T180000
DTEND;TZID=America/Los_Angeles:20260226T200000
DTSTAMP:20260419T095352
CREATED:20260113T201416Z
LAST-MODIFIED:20260113T201416Z
UID:8002-1772128800-1772136000@thestate.org
SUMMARY:Jazz Night
DESCRIPTION:Enjoy Latin and American Jazz at Intermission with Denise Choate’s Rhythm and Blues Project.
URL:https://thestate.org/event-intermission/jazz-night-12/
LOCATION:Intermission\, 1301 J Street\, Modesto\, California\, 95354
ATTACH;FMTTYPE=image/png:https://media.thestate.org/wp-content/uploads/2025/12/22144429/wotl.24x-36-in-1-scaled.png
END:VEVENT
BEGIN:VEVENT
DTSTART;TZID=America/Los_Angeles:20260305T180000
DTEND;TZID=America/Los_Angeles:20260305T200000
DTSTAMP:20260419T095352
CREATED:20260113T201501Z
LAST-MODIFIED:20260114T170943Z
UID:8004-1772733600-1772740800@thestate.org
SUMMARY:Jazz Night
DESCRIPTION:Join us for Jazz Night at Intermission with Bergen Finley\, where great music and good company come together. This free event runs from 6–8 p.m.\, and everyone is welcome to enjoy an evening of great jazz music.
URL:https://thestate.org/event-intermission/jazz-night-13/
LOCATION:Intermission\, 1301 J Street\, Modesto\, California\, 95354
ATTACH;FMTTYPE=image/png:https://media.thestate.org/wp-content/uploads/2025/12/22144429/wotl.24x-36-in-1-scaled.png
END:VEVENT
BEGIN:VEVENT
DTSTART;TZID=America/Los_Angeles:20260310T170000
DTEND;TZID=America/Los_Angeles:20260310T200000
DTSTAMP:20260419T095352
CREATED:20260119T195754Z
LAST-MODIFIED:20260123T162448Z
UID:8036-1773162000-1773172800@thestate.org
SUMMARY:A Night with Chef Robert
DESCRIPTION:Enjoy an elevated evening of flavor featuring The Century Chef Robert Root\, serving an artful selection of heavy appetizers designed to impress. Your experience includes complimentary wine\, making it the perfect night to sip\, savor\, and indulge.
URL:https://thestate.org/event-intermission/a-night-with-chef-robert/
LOCATION:Intermission\, 1301 J Street\, Modesto\, California\, 95354
ATTACH;FMTTYPE=image/jpeg:https://media.thestate.org/wp-content/uploads/2026/01/19115441/Robert-Pop-Up-24-x-36-in-1-scaled.jpg
END:VEVENT
BEGIN:VEVENT
DTSTART;TZID=America/Los_Angeles:20260319T180000
DTEND;TZID=America/Los_Angeles:20260319T210000
DTSTAMP:20260419T095352
CREATED:20260113T203424Z
LAST-MODIFIED:20260114T171144Z
UID:8012-1773943200-1773954000@thestate.org
SUMMARY:Jazz Night
DESCRIPTION:Join us for an evening of Jazz with Espinage Trio.
URL:https://thestate.org/event-intermission/jazz-night-17/
LOCATION:Intermission\, 1301 J Street\, Modesto\, California\, 95354
ATTACH;FMTTYPE=image/png:https://media.thestate.org/wp-content/uploads/2025/12/22144429/wotl.24x-36-in-1-scaled.png
END:VEVENT
BEGIN:VEVENT
DTSTART;TZID=America/Los_Angeles:20260402T190000
DTEND;TZID=America/Los_Angeles:20260402T210000
DTSTAMP:20260419T095352
CREATED:20260313T203402Z
LAST-MODIFIED:20260313T225544Z
UID:8299-1775156400-1775163600@thestate.org
SUMMARY:Jazz Night
DESCRIPTION:Join us for an evening with Jazz guitarist Colt Coleman. \n 
URL:https://thestate.org/event-intermission/jazz-night-19/
LOCATION:Intermission\, 1301 J Street\, Modesto\, California\, 95354
ATTACH;FMTTYPE=image/png:https://media.thestate.org/wp-content/uploads/2025/12/22144429/wotl.24x-36-in-1-scaled.png
END:VEVENT
BEGIN:VEVENT
DTSTART;TZID=America/Los_Angeles:20260413T170000
DTEND;TZID=America/Los_Angeles:20260413T200000
DTSTAMP:20260419T095352
CREATED:20260113T165055Z
LAST-MODIFIED:20260225T195701Z
UID:7995-1776099600-1776110400@thestate.org
SUMMARY:Benni's Night
DESCRIPTION:Mangia\, sip\, and celebrate at Benni’s Night! Intermission invites you to join us for a night filled with crave-worthy dishes\, warm hospitality\, and complimentary wine. Gather your friends and enjoy a delicious evening with  Chef Christopher Bonora\, inspired by Italian tradition and community. \nDoors at 5; food at 5:30 p.m. \nTickets: $100\nIncludes dinner\, wine\, taxes & gratuity.
URL:https://thestate.org/event-intermission/bennis-night/
LOCATION:Intermission\, 1301 J Street\, Modesto\, California\, 95354
ATTACH;FMTTYPE=image/jpeg:https://media.thestate.org/wp-content/uploads/2026/01/14093153/benni2.24x-36-in-scaled.jpg
END:VEVENT
BEGIN:VEVENT
DTSTART;TZID=America/Los_Angeles:20260414T170000
DTEND;TZID=America/Los_Angeles:20260414T200000
DTSTAMP:20260419T095352
CREATED:20260113T165223Z
LAST-MODIFIED:20260225T195649Z
UID:7998-1776186000-1776196800@thestate.org
SUMMARY:Benni's Night
DESCRIPTION:Mangia\, sip\, and celebrate at Benni’s Night! Intermission invites you to join us for a night filled with crave-worthy dishes\, warm hospitality\, and complimentary wine. Gather your friends and enjoy a delicious evening with  Chef Christopher Bonora\, inspired by Italian tradition and community. \nDoors at 5; food at 5:30 p.m. \nTickets: $100\nIncludes dinner\, wine\, taxes & gratuity.
URL:https://thestate.org/event-intermission/bennis-night-2/
LOCATION:Intermission\, 1301 J Street\, Modesto\, California\, 95354
ATTACH;FMTTYPE=image/jpeg:https://media.thestate.org/wp-content/uploads/2026/01/14093234/benni2.24x-36-in-1-scaled.jpg
END:VEVENT
BEGIN:VEVENT
DTSTART;TZID=America/Los_Angeles:20260416T190000
DTEND;TZID=America/Los_Angeles:20260416T210000
DTSTAMP:20260419T095352
CREATED:20260113T201948Z
LAST-MODIFIED:20260313T225644Z
UID:8006-1776366000-1776373200@thestate.org
SUMMARY:Jazz Night
DESCRIPTION:Enjoy Latin and American Jazz at Intermission with Denise Choate’s Rhythm and Blues Project. \n 
URL:https://thestate.org/event-intermission/jazz-night-14/
LOCATION:Intermission\, 1301 J Street\, Modesto\, California\, 95354
ATTACH;FMTTYPE=image/png:https://media.thestate.org/wp-content/uploads/2025/12/22144429/wotl.24x-36-in-1-scaled.png
END:VEVENT
BEGIN:VEVENT
DTSTART;TZID=America/Los_Angeles:20260423T190000
DTEND;TZID=America/Los_Angeles:20260423T210000
DTSTAMP:20260419T095352
CREATED:20260327T194951Z
LAST-MODIFIED:20260327T195021Z
UID:8372-1776970800-1776978000@thestate.org
SUMMARY:Jazz Night
DESCRIPTION:Johnny Valdes Jazz Trio\nJohnny Valdes is a guitarist\, composer and singer from Modesto Ca. He has been playing professionally for more than two decades and is currently signed to the Rhythmus record label started by legendary musician/producer Ray Obiedo. His influences include Wes Montgomery\, Bill Evans\, Jimi Hendrix\, Pat Martino\, John Coltrane and Charlie Parker. He’s recorded with Jazz legend John Stowell and has also performed with Barry Finnerty (Miles Davis)\, and David K. Matthews (Santana). Johnny has also performed with Mic Gillette and Marc van Wageningen (Tower of Power). He’s currently preparing for the release of his debut album.
URL:https://thestate.org/event-intermission/jazz-night-21/
LOCATION:Intermission\, 1301 J Street\, Modesto\, California\, 95354
ATTACH;FMTTYPE=image/png:https://media.thestate.org/wp-content/uploads/2025/12/22144429/wotl.24x-36-in-1-scaled.png
END:VEVENT
BEGIN:VEVENT
DTSTART;TZID=America/Los_Angeles:20260430T190000
DTEND;TZID=America/Los_Angeles:20260430T210000
DTSTAMP:20260419T095352
CREATED:20260313T230409Z
LAST-MODIFIED:20260313T230409Z
UID:8308-1777575600-1777582800@thestate.org
SUMMARY:Jazz Night
DESCRIPTION:Join us for an evening of mello jazz at Intermission with the Jana Marie Trio. \n 
URL:https://thestate.org/event-intermission/jazz-night-20/
LOCATION:Intermission\, 1301 J Street\, Modesto\, California\, 95354
ATTACH;FMTTYPE=image/png:https://media.thestate.org/wp-content/uploads/2025/12/22144429/wotl.24x-36-in-1-scaled.png
END:VEVENT
BEGIN:VEVENT
DTSTART;TZID=America/Los_Angeles:20260506T180000
DTEND;TZID=America/Los_Angeles:20260506T210000
DTSTAMP:20260419T095352
CREATED:20260327T194250Z
LAST-MODIFIED:20260327T194250Z
UID:8369-1778090400-1778101200@thestate.org
SUMMARY:Pitch Me\, Baby!
DESCRIPTION:The very popular pitch party is BACK! Join us for a night of pitching your single friends to a room full of people! Create a presentation\, bring props\, or just come and sit in the audience. \nThis event is a fun night of pitches and games hosted by Prose & Glow and Intermission. Enjoy delicious beverages and snacks with your friends. This event is for the 21+ crowd\, don’t be shy if you’re in your thirties or forties!
URL:https://thestate.org/event-intermission/pitch-me-baby/
LOCATION:Intermission\, 1301 J Street\, Modesto\, California\, 95354
ATTACH;FMTTYPE=image/png:https://media.thestate.org/wp-content/uploads/2026/03/27124152/PG-Events-8-HYM-IG.png
END:VEVENT
BEGIN:VEVENT
DTSTART;TZID=America/Los_Angeles:20260514T190000
DTEND;TZID=America/Los_Angeles:20260514T210000
DTSTAMP:20260419T095352
CREATED:20260113T202141Z
LAST-MODIFIED:20260113T202141Z
UID:8008-1778785200-1778792400@thestate.org
SUMMARY:Jazz Night
DESCRIPTION:Join us for an evening with Jazz guitarist Colt Coleman.
URL:https://thestate.org/event-intermission/jazz-night-15/
LOCATION:Intermission\, 1301 J Street\, Modesto\, California\, 95354
ATTACH;FMTTYPE=image/png:https://media.thestate.org/wp-content/uploads/2025/12/22144429/wotl.24x-36-in-1-scaled.png
END:VEVENT
BEGIN:VEVENT
DTSTART;TZID=America/Los_Angeles:20260519T170000
DTEND;TZID=America/Los_Angeles:20260519T210000
DTSTAMP:20260419T095352
CREATED:20260223T211951Z
LAST-MODIFIED:20260413T152413Z
UID:8174-1779210000-1779224400@thestate.org
SUMMARY:Food Fix at Intermission
DESCRIPTION:Join us for an unforgettable evening featuring dinner with Chef Hank Olson of Food Fix. \nYour $100 ticket includes wine\, tax\, and gratuity\, so you can relax and enjoy every bite.
URL:https://thestate.org/event-intermission/food-fix-at-intermission-2/
LOCATION:Intermission\, 1301 J Street\, Modesto\, California\, 95354
ATTACH;FMTTYPE=image/png:https://media.thestate.org/wp-content/uploads/2026/02/13082405/Food-Fix-scaled.png
END:VEVENT
BEGIN:VEVENT
DTSTART;TZID=America/Los_Angeles:20260521T190000
DTEND;TZID=America/Los_Angeles:20260521T210000
DTSTAMP:20260419T095352
CREATED:20260327T195121Z
LAST-MODIFIED:20260327T195121Z
UID:8375-1779390000-1779397200@thestate.org
SUMMARY:Jazz Night
DESCRIPTION:Johnny Valdes Jazz Trio\nJohnny Valdes is a guitarist\, composer and singer from Modesto Ca. He has been playing professionally for more than two decades and is currently signed to the Rhythmus record label started by legendary musician/producer Ray Obiedo. His influences include Wes Montgomery\, Bill Evans\, Jimi Hendrix\, Pat Martino\, John Coltrane and Charlie Parker. He’s recorded with Jazz legend John Stowell and has also performed with Barry Finnerty (Miles Davis)\, and David K. Matthews (Santana). Johnny has also performed with Mic Gillette and Marc van Wageningen (Tower of Power). He’s currently preparing for the release of his debut album.
URL:https://thestate.org/event-intermission/jazz-night-22/
LOCATION:Intermission\, 1301 J Street\, Modesto\, California\, 95354
ATTACH;FMTTYPE=image/jpeg:https://media.thestate.org/wp-content/uploads/2025/10/29120021/jazz.24-x-36-in-scaled.jpg
END:VEVENT
BEGIN:VEVENT
DTSTART;TZID=America/Los_Angeles:20260528T190000
DTEND;TZID=America/Los_Angeles:20260528T210000
DTSTAMP:20260419T095352
CREATED:20260113T202636Z
LAST-MODIFIED:20260113T202636Z
UID:8010-1779994800-1780002000@thestate.org
SUMMARY:Jazz Night
DESCRIPTION:Join us for Jazz Night at Intermission with Bergen Finley\, where great music and good company come together. This free event runs from 7–9 p.m.\, and everyone is welcome to enjoy an evening of great jazz music.
URL:https://thestate.org/event-intermission/jazz-night-16/
LOCATION:Intermission\, 1301 J Street\, Modesto\, California\, 95354
ATTACH;FMTTYPE=image/png:https://media.thestate.org/wp-content/uploads/2025/12/22144429/wotl.24x-36-in-1-scaled.png
END:VEVENT
BEGIN:VEVENT
DTSTART;TZID=America/Los_Angeles:20260611T190000
DTEND;TZID=America/Los_Angeles:20260611T210000
DTSTAMP:20260419T095352
CREATED:20260327T200922Z
LAST-MODIFIED:20260327T200922Z
UID:8379-1781204400-1781211600@thestate.org
SUMMARY:Jazz Night
DESCRIPTION:Join us for an unforgettable evening of soul-stirring music with acclaimed vocalist\, musician\, and educator Clif Payne. Known for his rich\, expressive voice and genre-spanning artistry\, Payne effortlessly blends jazz with elements of R&B\, gospel\, blues\, rock\, folk\, and pop to create a sound that is uniquely his own.
URL:https://thestate.org/event-intermission/jazz-night-24/
LOCATION:Intermission\, 1301 J Street\, Modesto\, California\, 95354
ATTACH;FMTTYPE=image/jpeg:https://media.thestate.org/wp-content/uploads/2025/10/29120021/jazz.24-x-36-in-scaled.jpg
END:VEVENT
BEGIN:VEVENT
DTSTART;TZID=America/Los_Angeles:20260612T170000
DTEND;TZID=America/Los_Angeles:20260612T210000
DTSTAMP:20260419T095352
CREATED:20260409T192048Z
LAST-MODIFIED:20260413T161957Z
UID:8413-1781283600-1781298000@thestate.org
SUMMARY:Graffiti VIP Event
DESCRIPTION:Stay cool and cruise into Intermission to enjoy Modesto’s legendary Graffiti Parade in style! Streaming live inside Intermission. Sip on a cocktail\, indulge in light appetizers\, pamper yourself with the delightful air conditioning\, and above all\, enjoy the luxury of pristine restrooms. \nEvent: 5 – 9 p.m.\n \n\n**Admission includes tax and gratuity
URL:https://thestate.org/event-intermission/graffiti-vip-event-3/
LOCATION:Intermission\, 1301 J Street\, Modesto\, California\, 95354
ATTACH;FMTTYPE=image/jpeg:https://media.thestate.org/wp-content/uploads/2026/04/13091951/Graffiti-VIP-scaled.jpg
END:VEVENT
BEGIN:VEVENT
DTSTART;TZID=America/Los_Angeles:20260618T190000
DTEND;TZID=America/Los_Angeles:20260618T210000
DTSTAMP:20260419T095352
CREATED:20260327T195227Z
LAST-MODIFIED:20260327T195227Z
UID:8377-1781809200-1781816400@thestate.org
SUMMARY:Jazz Night
DESCRIPTION:Johnny Valdes Jazz Trio\nJohnny Valdes is a guitarist\, composer and singer from Modesto Ca. He has been playing professionally for more than two decades and is currently signed to the Rhythmus record label started by legendary musician/producer Ray Obiedo. His influences include Wes Montgomery\, Bill Evans\, Jimi Hendrix\, Pat Martino\, John Coltrane and Charlie Parker. He’s recorded with Jazz legend John Stowell and has also performed with Barry Finnerty (Miles Davis)\, and David K. Matthews (Santana). Johnny has also performed with Mic Gillette and Marc van Wageningen (Tower of Power). He’s currently preparing for the release of his debut album.
URL:https://thestate.org/event-intermission/jazz-night-23/
LOCATION:Intermission\, 1301 J Street\, Modesto\, California\, 95354
ATTACH;FMTTYPE=image/jpeg:https://media.thestate.org/wp-content/uploads/2025/10/29120021/jazz.24-x-36-in-scaled.jpg
END:VEVENT
BEGIN:VEVENT
DTSTART;TZID=America/Los_Angeles:20260709T190000
DTEND;TZID=America/Los_Angeles:20260709T210000
DTSTAMP:20260419T095352
CREATED:20260306T193202Z
LAST-MODIFIED:20260306T193202Z
UID:8230-1783623600-1783630800@thestate.org
SUMMARY:Jazz Night
DESCRIPTION:Kurt Ribak (REE-bok\, like the shoes) describes his music as “Charles Mingus meets The Meters. They go to Duke Ellington’s house to jam\, and Cachao and Thelonious Monk sit in.” Kurt has three albums as the Kurt Ribak Trio and three more as Kurt Ribak. The albums feature his own compositions\, which are original yet accessible. \nKurt grew up singing and playing classical music. He began playing jazz while attending UC Berkeley. After a battle with tendinitis\, Kurt won scholarships to Berklee College of Music and graduated with top honors. \nKurt has shared the stage with circus performers\, preachers\, and fire-breathing strippers\, but never all three at once. He has performed in venues ranging from SFJAZZ and Yoshi’s to a club where someone surreptitiously stashed a loaded .45 in Kurt’s bass bag while he was playing. \nKurt’s band has sold out Yoshi’s and SFJAZZ. They have also performed at San Francisco Jazz Festival\, Freight & Salvage Coffeehouse\, San Jose Jazz Festival\, Nor-Cal Jazz Festival\, Fillmore Street Jazz Festival\, and Blue Note Napa.
URL:https://thestate.org/event-intermission/jazz-night-18/
LOCATION:Intermission\, 1301 J Street\, Modesto\, California\, 95354
ATTACH;FMTTYPE=image/png:https://media.thestate.org/wp-content/uploads/2025/12/22144429/wotl.24x-36-in-1-scaled.png
END:VEVENT
BEGIN:VEVENT
DTSTART;TZID=America/Los_Angeles:20260713T170000
DTEND;TZID=America/Los_Angeles:20260713T210000
DTSTAMP:20260419T095352
CREATED:20260415T165027Z
LAST-MODIFIED:20260415T165027Z
UID:8455-1783962000-1783976400@thestate.org
SUMMARY:Ohana Night
DESCRIPTION:Join us for a special seafood pop-up featuring John Mensonides of Ohana Seafood at Intermission. Known for his bold flavors\, John will present a fresh\, thoughtfully curated menu highlighting the best of the sea. This one-night-only experience blends creativity\, community\, and incredible food. Don’t miss your chance to indulge in this unique culinary evening at Intermission. \nDoors at 5; Food at 5:30 \nWine\, gratuity\, and tax are included in the ticket price.
URL:https://thestate.org/event-intermission/ohana-night/
LOCATION:Intermission\, 1301 J Street\, Modesto\, California\, 95354
ATTACH;FMTTYPE=image/png:https://media.thestate.org/wp-content/uploads/2026/04/15095018/Ohana-1-scaled.png
END:VEVENT
BEGIN:VEVENT
DTSTART;TZID=America/Los_Angeles:20260716T190000
DTEND;TZID=America/Los_Angeles:20260716T210000
DTSTAMP:20260419T095352
CREATED:20260408T192646Z
LAST-MODIFIED:20260408T192646Z
UID:8403-1784228400-1784235600@thestate.org
SUMMARY:Jazz Night
DESCRIPTION:Onion is a jam/jazz/groove/funk/rock machine located in the beautiful Central Valley of California.
URL:https://thestate.org/event-intermission/jazz-night-25/
LOCATION:Intermission\, 1301 J Street\, Modesto\, California\, 95354
ATTACH;FMTTYPE=image/jpeg:https://media.thestate.org/wp-content/uploads/2025/10/29120021/jazz.24-x-36-in-scaled.jpg
END:VEVENT
BEGIN:VEVENT
DTSTART;TZID=America/Los_Angeles:20260817T170000
DTEND;TZID=America/Los_Angeles:20260817T210000
DTSTAMP:20260419T095352
CREATED:20260417T201742Z
LAST-MODIFIED:20260417T201742Z
UID:8464-1786986000-1787000400@thestate.org
SUMMARY:Surla's at Intermission
DESCRIPTION:Join us for a special evening with Chef John Surla and experience the signature flavors of Surla’s at Intermission. \nDoors at 5; food at 5:30 p.m. \nWine\, gratuity\, and tax are included in the ticket price.
URL:https://thestate.org/event-intermission/surlas-at-intermission/
LOCATION:Intermission\, 1301 J Street\, Modesto\, California\, 95354
ATTACH;FMTTYPE=image/jpeg:https://media.thestate.org/wp-content/uploads/2026/04/17131018/Surlas-scaled.jpg
END:VEVENT
END:VCALENDAR