BEGIN:VCALENDAR
VERSION:2.0
PRODID:-//State Theatre of Modesto - ECPv6.15.20//NONSGML v1.0//EN
CALSCALE:GREGORIAN
METHOD:PUBLISH
X-WR-CALNAME:State Theatre of Modesto
X-ORIGINAL-URL:https://thestate.org
X-WR-CALDESC:Events for State Theatre of Modesto
REFRESH-INTERVAL;VALUE=DURATION:PT1H
X-Robots-Tag:noindex
X-PUBLISHED-TTL:PT1H
BEGIN:VTIMEZONE
TZID:America/Los_Angeles
BEGIN:DAYLIGHT
TZOFFSETFROM:-0800
TZOFFSETTO:-0700
TZNAME:PDT
DTSTART:20240310T100000
END:DAYLIGHT
BEGIN:STANDARD
TZOFFSETFROM:-0700
TZOFFSETTO:-0800
TZNAME:PST
DTSTART:20241103T090000
END:STANDARD
BEGIN:DAYLIGHT
TZOFFSETFROM:-0800
TZOFFSETTO:-0700
TZNAME:PDT
DTSTART:20250309T100000
END:DAYLIGHT
BEGIN:STANDARD
TZOFFSETFROM:-0700
TZOFFSETTO:-0800
TZNAME:PST
DTSTART:20251102T090000
END:STANDARD
BEGIN:DAYLIGHT
TZOFFSETFROM:-0800
TZOFFSETTO:-0700
TZNAME:PDT
DTSTART:20260308T100000
END:DAYLIGHT
BEGIN:STANDARD
TZOFFSETFROM:-0700
TZOFFSETTO:-0800
TZNAME:PST
DTSTART:20261101T090000
END:STANDARD
END:VTIMEZONE
BEGIN:VEVENT
DTSTART;TZID=America/Los_Angeles:20250221T190000
DTEND;TZID=America/Los_Angeles:20250221T210000
DTSTAMP:20260424T205246
CREATED:20250130T173542Z
LAST-MODIFIED:20250130T173542Z
UID:6928-1740164400-1740171600@thestate.org
SUMMARY:Jazz In Intermission
DESCRIPTION:Enjoy Latin and American Jazz at Intermission with Denise Choate’s Rhythm and Blues Project. \n 
URL:https://thestate.org/event-intermission/jazz-in-intermission/
LOCATION:Intermission\, 1301 J Street\, Modesto\, California\, 95354
ATTACH;FMTTYPE=image/png:https://media.thestate.org/wp-content/uploads/2025/01/29120051/Intermission-Topper-4-x-7-in-24-x-36-in-4-x-9-in-2-x-3-in.png
END:VEVENT
END:VCALENDAR